BEGIN:VCALENDAR
VERSION:2.0
PRODID:-//Página Oficial del Ayuntamiento de Beneixama - ECPv6.15.15//NONSGML v1.0//EN
CALSCALE:GREGORIAN
METHOD:PUBLISH
X-WR-CALNAME:Página Oficial del Ayuntamiento de Beneixama
X-ORIGINAL-URL:https://www.beneixama.es
X-WR-CALDESC:Eventos para Página Oficial del Ayuntamiento de Beneixama
REFRESH-INTERVAL;VALUE=DURATION:PT1H
X-Robots-Tag:noindex
X-PUBLISHED-TTL:PT1H
BEGIN:VTIMEZONE
TZID:Europe/Madrid
BEGIN:DAYLIGHT
TZOFFSETFROM:+0100
TZOFFSETTO:+0200
TZNAME:CEST
DTSTART:20180325T010000
END:DAYLIGHT
BEGIN:STANDARD
TZOFFSETFROM:+0200
TZOFFSETTO:+0100
TZNAME:CET
DTSTART:20181028T010000
END:STANDARD
BEGIN:DAYLIGHT
TZOFFSETFROM:+0100
TZOFFSETTO:+0200
TZNAME:CEST
DTSTART:20190331T010000
END:DAYLIGHT
BEGIN:STANDARD
TZOFFSETFROM:+0200
TZOFFSETTO:+0100
TZNAME:CET
DTSTART:20191027T010000
END:STANDARD
BEGIN:DAYLIGHT
TZOFFSETFROM:+0100
TZOFFSETTO:+0200
TZNAME:CEST
DTSTART:20200329T010000
END:DAYLIGHT
BEGIN:STANDARD
TZOFFSETFROM:+0200
TZOFFSETTO:+0100
TZNAME:CET
DTSTART:20201025T010000
END:STANDARD
END:VTIMEZONE
BEGIN:VEVENT
DTSTART;TZID=Europe/Madrid:20190319T093000
DTEND;TZID=Europe/Madrid:20190319T130000
DTSTAMP:20260424T134020
CREATED:20190312T133333Z
LAST-MODIFIED:20190312T133822Z
UID:34728-1552987800-1553000400@www.beneixama.es
SUMMARY:XXXIII Carrera Ciclista San José.
DESCRIPTION:
URL:https://www.beneixama.es/event/xxxiii-carrera-ciclista-san-jose/
CATEGORIES:Agenda 21,BeneiXarXa,Club Ciclista Beneixama,Eventos / Anuncios
ATTACH;FMTTYPE=image/png:https://www.beneixama.es/wp-content/uploads/2019/03/St.-Josep19.png
END:VEVENT
BEGIN:VEVENT
DTSTART;TZID=Europe/Madrid:20190223T123000
DTEND;TZID=Europe/Madrid:20190223T140000
DTSTAMP:20260424T134020
CREATED:20190125T121428Z
LAST-MODIFIED:20190125T121428Z
UID:34481-1550925000-1550930400@www.beneixama.es
SUMMARY:Exposición del XV Concurso Fotográfico Pepe Mas 2018.
DESCRIPTION:
URL:https://www.beneixama.es/event/exposicion-del-xv-concurso-fotografico-pepe-mas-2018/
CATEGORIES:Agenda 21,Eventos / Anuncios
END:VEVENT
BEGIN:VEVENT
DTSTART;TZID=Europe/Madrid:20190112T190000
DTEND;TZID=Europe/Madrid:20190112T210000
DTSTAMP:20260424T134020
CREATED:20190107T114451Z
LAST-MODIFIED:20190107T114451Z
UID:34174-1547319600-1547326800@www.beneixama.es
SUMMARY:L'Or dels valencians.
DESCRIPTION:
URL:https://www.beneixama.es/event/lor-dels-valencians/
CATEGORIES:Agenda 21,Eventos / Anuncios
END:VEVENT
END:VCALENDAR