BEGIN:VCALENDAR
VERSION:2.0
PRODID:-//Página Oficial del Ayuntamiento de Beneixama - ECPv6.15.15//NONSGML v1.0//EN
CALSCALE:GREGORIAN
METHOD:PUBLISH
X-WR-CALNAME:Página Oficial del Ayuntamiento de Beneixama
X-ORIGINAL-URL:https://www.beneixama.es/ca/
X-WR-CALDESC:Events for Página Oficial del Ayuntamiento de Beneixama
REFRESH-INTERVAL;VALUE=DURATION:PT1H
X-Robots-Tag:noindex
X-PUBLISHED-TTL:PT1H
BEGIN:VTIMEZONE
TZID:Europe/Madrid
BEGIN:DAYLIGHT
TZOFFSETFROM:+0100
TZOFFSETTO:+0200
TZNAME:CEST
DTSTART:20170326T010000
END:DAYLIGHT
BEGIN:STANDARD
TZOFFSETFROM:+0200
TZOFFSETTO:+0100
TZNAME:CET
DTSTART:20171029T010000
END:STANDARD
BEGIN:DAYLIGHT
TZOFFSETFROM:+0100
TZOFFSETTO:+0200
TZNAME:CEST
DTSTART:20180325T010000
END:DAYLIGHT
BEGIN:STANDARD
TZOFFSETFROM:+0200
TZOFFSETTO:+0100
TZNAME:CET
DTSTART:20181028T010000
END:STANDARD
BEGIN:DAYLIGHT
TZOFFSETFROM:+0100
TZOFFSETTO:+0200
TZNAME:CEST
DTSTART:20190331T010000
END:DAYLIGHT
BEGIN:STANDARD
TZOFFSETFROM:+0200
TZOFFSETTO:+0100
TZNAME:CET
DTSTART:20191027T010000
END:STANDARD
BEGIN:DAYLIGHT
TZOFFSETFROM:+0100
TZOFFSETTO:+0200
TZNAME:CEST
DTSTART:20200329T010000
END:DAYLIGHT
BEGIN:STANDARD
TZOFFSETFROM:+0200
TZOFFSETTO:+0100
TZNAME:CET
DTSTART:20201025T010000
END:STANDARD
END:VTIMEZONE
BEGIN:VEVENT
DTSTART;VALUE=DATE:20181101
DTEND;VALUE=DATE:20181102
DTSTAMP:20260426T024241
CREATED:20181106T174807Z
LAST-MODIFIED:20181205T114315Z
UID:32784-1541030400-1541116799@www.beneixama.es
SUMMARY:Secció esdeveniments en Associacions de Beneixama
DESCRIPTION:Les associacions de Beneixama ja poden incloure els seus esdeveniments en la pàgina de l’Ajuntament de Beneixama per a tindre informats tots els habitants i visitants. Ara ja no tens excusa per a perdre’t cap. 😉
URL:https://www.beneixama.es/ca/event/seccio-esdeveniments-en-associacions-de-beneixama/
CATEGORIES:AMPA,Associació de Ioga de Beneixama,Associacions,BeneiXarXa,Club Bàdminton Beneixama,Club Ciclista Beneixama,Club de Caça Beneixama,Colla de Dimonis Emplomats,Comissió de Festes,Comissió Sant Antoni,Comparsa Llauradors,Filà de Moros,Grup de Danses Beneixama,Grup Multi Labors Beneixama,Patchwork - Puntet a Puntet,Societat Coral Beneixama,Societat Musical La Pau
END:VEVENT
BEGIN:VEVENT
DTSTART;TZID=Europe/Madrid:20181215T193000
DTEND;TZID=Europe/Madrid:20181215T213000
DTSTAMP:20260426T024241
CREATED:20181204T120341Z
LAST-MODIFIED:20181204T120341Z
UID:33728-1544902200-1544909400@www.beneixama.es
SUMMARY:Gala Lírica de Sarsuela conmemorativa del 40 Aniversari de la Constitució.
DESCRIPTION:
URL:https://www.beneixama.es/ca/event/gala-lirica-de-sarsuela-conmemorativa-del-40-aniversari-de-la-constitucio/
CATEGORIES:Agenda 21,BeneiXarXa,Esdeveniments / Anuncis
END:VEVENT
BEGIN:VEVENT
DTSTART;TZID=Europe/Madrid:20181222T100000
DTEND;TZID=Europe/Madrid:20181222T130000
DTSTAMP:20260426T024241
CREATED:20181212T110540Z
LAST-MODIFIED:20181212T110540Z
UID:33788-1545472800-1545483600@www.beneixama.es
SUMMARY:I Sant Silvestre Ciclista.
DESCRIPTION:Dissabte\, 22 de desembre a les 10.00 hores. \nConcentració a la plaça de l’Ajuntament.
URL:https://www.beneixama.es/ca/event/i-sant-silvestre-ciclista/
CATEGORIES:Agenda 21,Club Ciclista Beneixama,Esdeveniments / Anuncis
END:VEVENT
BEGIN:VEVENT
DTSTART;TZID=Europe/Madrid:20181222T180000
DTEND;TZID=Europe/Madrid:20181222T190000
DTSTAMP:20260426T024241
CREATED:20181217T081913Z
LAST-MODIFIED:20181217T081913Z
UID:33828-1545501600-1545505200@www.beneixama.es
SUMMARY:Meditació Solstici d'Hivern.
DESCRIPTION:L’Associació de Ioga ha organitzat per a dissbate que ve 22 de desembre\, de 18.00 a 19.00 hores\, a la sala de la seua Associació\, la següent activitat gratuïta: Meditació Solstici d’Hivern. \nReserves: 627 932 857 (aforament limitat)
URL:https://www.beneixama.es/ca/event/meditacio-solstici-dhivern/
CATEGORIES:Agenda 21,Associació de Ioga de Beneixama,Associacions,BeneiXarXa,Esdeveniments / Anuncis
END:VEVENT
BEGIN:VEVENT
DTSTART;TZID=Europe/Madrid:20181222T190000
DTEND;TZID=Europe/Madrid:20181222T203000
DTSTAMP:20260426T024241
CREATED:20181217T073152Z
LAST-MODIFIED:20181217T073152Z
UID:33821-1545505200-1545510600@www.beneixama.es
SUMMARY:Presentació "La Plegaria de Eos"\, de Pedro Amorós.
DESCRIPTION:La presentació tindrà lloc dissabte que ve 22 de desembre a les 19.00 hores a la Sala d’Exposicions Temporals (antic safareig).
URL:https://www.beneixama.es/ca/event/presentacio-la-plegaria-de-eos-de-pedro-amoros/
CATEGORIES:Agenda 21,Esdeveniments / Anuncis
END:VEVENT
BEGIN:VEVENT
DTSTART;TZID=Europe/Madrid:20181227T083000
DTEND;TZID=Europe/Madrid:20181227T143000
DTSTAMP:20260426T024241
CREATED:20181211T122013Z
LAST-MODIFIED:20181211T122013Z
UID:33772-1545899400-1545921000@www.beneixama.es
SUMMARY:Excursió Cultural a Alacant.
DESCRIPTION:Des de la Regidoria de Cultura estem organitzant una excursió per visitar el Museu Arqueològic d’Alacant el dia 27 de desembre. \nVisitarem l’exposició Rupestre\, que s’acaba en gener\, i anirem també a visitar les ruïnes de l’antiga Lucentum. És una activitat d’un matí ideal per fer en familia. Te’n vens? \nPots apuntar-te en l’Ajuntament o enviant un correu a cultura@beneixama.es.
URL:https://www.beneixama.es/ca/event/excursio-cultural-a-alacant/
CATEGORIES:BeneiXarXa,Esdeveniments / Anuncis
END:VEVENT
BEGIN:VEVENT
DTSTART;TZID=Europe/Madrid:20181229T200000
DTEND;TZID=Europe/Madrid:20181229T233000
DTSTAMP:20260426T024241
CREATED:20181220T133555Z
LAST-MODIFIED:20181220T133555Z
UID:33853-1546113600-1546126200@www.beneixama.es
SUMMARY:600 anys de la Generalitat Valenciana.
DESCRIPTION:
URL:https://www.beneixama.es/ca/event/600-anys-de-la-generalitat-valenciana/
CATEGORIES:Agenda 21,BeneiXarXa,Esdeveniments / Anuncis
END:VEVENT
BEGIN:VEVENT
DTSTART;TZID=Europe/Madrid:20181230T120000
DTEND;TZID=Europe/Madrid:20181230T143000
DTSTAMP:20260426T024241
CREATED:20181210T093337Z
LAST-MODIFIED:20181210T093337Z
UID:33756-1546171200-1546180200@www.beneixama.es
SUMMARY:Pastorà.
DESCRIPTION:El diumenge 30 de desembre\, a les 12.00 hores en la porta de l’Església\, tindrà lloc la tradicional Pastorà. \nL’A.M.P.A. C.P: Divina Aurora agraeix que s’aporten productes de primera necessitat.
URL:https://www.beneixama.es/ca/event/pastora/
CATEGORIES:Agenda 21,AMPA,Associacions,BeneiXarXa
END:VEVENT
BEGIN:VEVENT
DTSTART;TZID=Europe/Madrid:20181230T183000
DTEND;TZID=Europe/Madrid:20181230T210000
DTSTAMP:20260426T024241
CREATED:20181220T134000Z
LAST-MODIFIED:20181220T134000Z
UID:33859-1546194600-1546203600@www.beneixama.es
SUMMARY:Nadal Solidari 2018.
DESCRIPTION:
URL:https://www.beneixama.es/ca/event/nadal-solidari-2018/
CATEGORIES:Agenda 21,BeneiXarXa,Esdeveniments / Anuncis
END:VEVENT
BEGIN:VEVENT
DTSTART;TZID=Europe/Madrid:20181231T103000
DTEND;TZID=Europe/Madrid:20181231T143000
DTSTAMP:20260426T024241
CREATED:20181210T132509Z
LAST-MODIFIED:20181212T104853Z
UID:33759-1546252200-1546266600@www.beneixama.es
SUMMARY:Sant Silvestre.
DESCRIPTION:El dilluns 31 de desembre\, a les 13.30 hores en la plaça de l’Ajuntament: jocs\, activitats i xocolatada per a tots els participants.
URL:https://www.beneixama.es/ca/event/sant-silvestre/
CATEGORIES:Agenda 21,AMPA,Associacions,BeneiXarXa,Esdeveniments / Anuncis
END:VEVENT
BEGIN:VEVENT
DTSTART;TZID=Europe/Madrid:20190112T190000
DTEND;TZID=Europe/Madrid:20190112T210000
DTSTAMP:20260426T024242
CREATED:20190107T114451Z
LAST-MODIFIED:20190107T114451Z
UID:34179-1547319600-1547326800@www.beneixama.es
SUMMARY:L'Or dels valencians.
DESCRIPTION:
URL:https://www.beneixama.es/ca/event/lor-dels-valencians/
CATEGORIES:Agenda 21,Esdeveniments / Anuncis
END:VEVENT
BEGIN:VEVENT
DTSTART;TZID=Europe/Madrid:20190118T080000
DTEND;TZID=Europe/Madrid:20190120T200000
DTSTAMP:20260426T024242
CREATED:20190118T094828Z
LAST-MODIFIED:20190118T094828Z
UID:34336-1547798400-1548014400@www.beneixama.es
SUMMARY:Sant Antoni 2019.
DESCRIPTION:
URL:https://www.beneixama.es/ca/event/sant-antoni-2019/
CATEGORIES:Agenda 21,Comissió Sant Antoni
END:VEVENT
BEGIN:VEVENT
DTSTART;TZID=Europe/Madrid:20190203T110000
DTEND;TZID=Europe/Madrid:20190203T143000
DTSTAMP:20260426T024242
CREATED:20190125T104050Z
LAST-MODIFIED:20190125T104050Z
UID:34473-1549191600-1549204200@www.beneixama.es
SUMMARY:I Clàssica Beneixama.
DESCRIPTION:
URL:https://www.beneixama.es/ca/event/i-classica-beneixama/
CATEGORIES:Agenda 21,Esdeveniments / Anuncis
END:VEVENT
BEGIN:VEVENT
DTSTART;TZID=Europe/Madrid:20190216T120000
DTEND;TZID=Europe/Madrid:20190216T133000
DTSTAMP:20260426T024242
CREATED:20190212T111121Z
LAST-MODIFIED:20190212T111121Z
UID:34625-1550318400-1550323800@www.beneixama.es
SUMMARY:Contacontes.
DESCRIPTION:
URL:https://www.beneixama.es/ca/event/contacontes/
CATEGORIES:Agenda 21,Esdeveniments / Anuncis
END:VEVENT
BEGIN:VEVENT
DTSTART;TZID=Europe/Madrid:20190223T123000
DTEND;TZID=Europe/Madrid:20190223T140000
DTSTAMP:20260426T024242
CREATED:20190125T121428Z
LAST-MODIFIED:20190125T123628Z
UID:34486-1550925000-1550930400@www.beneixama.es
SUMMARY:Exposició del XV Concurs Fotogràfic Pepe Mas 2018.
DESCRIPTION:
URL:https://www.beneixama.es/ca/event/exposicio-del-xv-concurs-fotografic-pepe-mas-2018/
CATEGORIES:Agenda 21,Esdeveniments / Anuncis
END:VEVENT
BEGIN:VEVENT
DTSTART;TZID=Europe/Madrid:20190223T123000
DTEND;TZID=Europe/Madrid:20190223T140000
DTSTAMP:20260426T024242
CREATED:20190125T120039Z
LAST-MODIFIED:20190125T120039Z
UID:34480-1550925000-1550930400@www.beneixama.es
SUMMARY:Exposicions dels Concursos Escolars de Dibuix Mig Any Fester 2019.
DESCRIPTION:
URL:https://www.beneixama.es/ca/event/exposicions-dels-concursos-escolars-de-dibuix-mig-any-fester-2019/
CATEGORIES:Agenda 21,Comissió de Festes,Esdeveniments / Anuncis
END:VEVENT
BEGIN:VEVENT
DTSTART;TZID=Europe/Madrid:20190223T170000
DTEND;TZID=Europe/Madrid:20190223T190000
DTSTAMP:20260426T024242
CREATED:20190219T105254Z
LAST-MODIFIED:20190219T105254Z
UID:34661-1550941200-1550948400@www.beneixama.es
SUMMARY:Desfilada de Carnestoltes.
DESCRIPTION:
URL:https://www.beneixama.es/ca/event/desfilada-de-carnestoltes/
CATEGORIES:Agenda 21,AMPA,BeneiXarXa,Esdeveniments / Anuncis
ATTACH;FMTTYPE=image/jpeg:https://www.beneixama.es/wp-content/uploads/2019/02/Carnaval.jpg
END:VEVENT
BEGIN:VEVENT
DTSTART;TZID=Europe/Madrid:20190302T103000
DTEND;TZID=Europe/Madrid:20190302T233000
DTSTAMP:20260426T024242
CREATED:20190213T112439Z
LAST-MODIFIED:20190213T112439Z
UID:34637-1551522600-1551569400@www.beneixama.es
SUMMARY:Mig Any 2019.
DESCRIPTION:
URL:https://www.beneixama.es/ca/event/mig-any-2019/
CATEGORIES:Agenda 21,Comissió de Festes,Esdeveniments / Anuncis
END:VEVENT
BEGIN:VEVENT
DTSTART;TZID=Europe/Madrid:20190303T120000
DTEND;TZID=Europe/Madrid:20190303T143000
DTSTAMP:20260426T024242
CREATED:20190213T112846Z
LAST-MODIFIED:20190213T112846Z
UID:34640-1551614400-1551623400@www.beneixama.es
SUMMARY:Mig Any 2019: recollida de banderes i missa.
DESCRIPTION:
URL:https://www.beneixama.es/ca/event/mig-any-2019-recollida-de-banderes-i-missa/
CATEGORIES:Agenda 21,Comissió de Festes,Esdeveniments / Anuncis
END:VEVENT
BEGIN:VEVENT
DTSTART;TZID=Europe/Madrid:20190309T200000
DTEND;TZID=Europe/Madrid:20190309T220000
DTSTAMP:20260426T024242
CREATED:20190213T123449Z
LAST-MODIFIED:20190213T125940Z
UID:34643-1552161600-1552168800@www.beneixama.es
SUMMARY:Mig Any 2019: Concert música festera a càrrec de la S.M. La Pau de Beneixama.
DESCRIPTION:
URL:https://www.beneixama.es/ca/event/mig-any-2019-concert-musica-festera-a-carrec-de-la-s-m-la-pau-de-beneixama/
CATEGORIES:Agenda 21,BeneiXarXa,Comissió de Festes,Esdeveniments / Anuncis
ATTACH;FMTTYPE=image/jpeg:https://www.beneixama.es/wp-content/uploads/2019/02/XXIV-campaña-musica-las-pobles.jpg
END:VEVENT
BEGIN:VEVENT
DTSTART;TZID=Europe/Madrid:20190310T090000
DTEND;TZID=Europe/Madrid:20190310T170000
DTSTAMP:20260426T024242
CREATED:20190307T074758Z
LAST-MODIFIED:20190307T074758Z
UID:34708-1552208400-1552237200@www.beneixama.es
SUMMARY:Herbari Mengívol\, a càrrec de Toni Orengo.
DESCRIPTION:
URL:https://www.beneixama.es/ca/event/herbari-mengivol-a-carrec-de-toni-orengo/
CATEGORIES:Agenda 21,BeneiXarXa,Esdeveniments / Anuncis
ATTACH;FMTTYPE=image/jpeg:https://www.beneixama.es/wp-content/uploads/2019/03/grup-de-muntanya.jpg
END:VEVENT
BEGIN:VEVENT
DTSTART;TZID=Europe/Madrid:20190316T080000
DTEND;TZID=Europe/Madrid:20190317T170000
DTSTAMP:20260426T024242
CREATED:20190307T075143Z
LAST-MODIFIED:20190307T075143Z
UID:34711-1552723200-1552842000@www.beneixama.es
SUMMARY:Volta a la Vall\, nit en el refugi de Castelló.
DESCRIPTION:
URL:https://www.beneixama.es/ca/event/volta-a-la-vall-nit-en-el-refugi-de-castello/
CATEGORIES:Agenda 21,BeneiXarXa,Esdeveniments / Anuncis
END:VEVENT
BEGIN:VEVENT
DTSTART;TZID=Europe/Madrid:20190319T093000
DTEND;TZID=Europe/Madrid:20190319T130000
DTSTAMP:20260426T024242
CREATED:20190312T133333Z
LAST-MODIFIED:20190312T133333Z
UID:34733-1552987800-1553000400@www.beneixama.es
SUMMARY:XXXIII Carrera Ciclista Sant Josep.
DESCRIPTION:
URL:https://www.beneixama.es/ca/event/xxxiii-carrera-ciclista-sant-josep/
CATEGORIES:Agenda 21,BeneiXarXa,Club Ciclista Beneixama,Esdeveniments / Anuncis
ATTACH;FMTTYPE=image/png:https://www.beneixama.es/wp-content/uploads/2019/03/St.-Josep19.png
END:VEVENT
BEGIN:VEVENT
DTSTART;TZID=Europe/Madrid:20190321T180000
DTEND;TZID=Europe/Madrid:20190321T200000
DTSTAMP:20260426T024242
CREATED:20190321T092212Z
LAST-MODIFIED:20190321T092251Z
UID:34748-1553191200-1553198400@www.beneixama.es
SUMMARY:Jornades tècniques de difusió sobre els drets de les persones consumidores.
DESCRIPTION:
URL:https://www.beneixama.es/ca/event/jornadas-tecnicas-de-difusion-sobre-los-derechos-de-las-personas-consumidoras/
CATEGORIES:Agenda 21
ATTACH;FMTTYPE=image/jpeg:https://www.beneixama.es/wp-content/uploads/2019/03/21-marzo.jpeg
END:VEVENT
BEGIN:VEVENT
DTSTART;TZID=Europe/Madrid:20190323T100000
DTEND;TZID=Europe/Madrid:20190323T120000
DTSTAMP:20260426T024242
CREATED:20190321T115457Z
LAST-MODIFIED:20190321T115457Z
UID:34769-1553335200-1553342400@www.beneixama.es
SUMMARY:Taller Mindfulness.
DESCRIPTION:
URL:https://www.beneixama.es/ca/event/taller-mindfulness/
CATEGORIES:Agenda 21,Associació de Ioga de Beneixama,BeneiXarXa
ATTACH;FMTTYPE=image/jpeg:https://www.beneixama.es/wp-content/uploads/2019/03/Mindfulness-23-marzo.jpg
END:VEVENT
BEGIN:VEVENT
DTSTART;TZID=Europe/Madrid:20190323T190000
DTEND;TZID=Europe/Madrid:20190323T210000
DTSTAMP:20260426T024242
CREATED:20190321T093425Z
LAST-MODIFIED:20190321T093654Z
UID:34762-1553367600-1553374800@www.beneixama.es
SUMMARY:"La Vida és Somni"\, de Calderón de la Barca.
DESCRIPTION:
URL:https://www.beneixama.es/ca/event/la-vida-es-somni-de-calderon-de-la-barco/
CATEGORIES:Agenda 21,BeneiXarXa,Esdeveniments / Anuncis
ATTACH;FMTTYPE=image/jpeg:https://www.beneixama.es/wp-content/uploads/2019/03/23-marzo.jpeg
END:VEVENT
BEGIN:VEVENT
DTSTART;TZID=Europe/Madrid:20190406T190000
DTEND;TZID=Europe/Madrid:20190406T213000
DTSTAMP:20260426T024242
CREATED:20190403T063226Z
LAST-MODIFIED:20190403T063226Z
UID:34837-1554577200-1554586200@www.beneixama.es
SUMMARY:Festa de l'Oli i el Vi.
DESCRIPTION:
URL:https://www.beneixama.es/ca/event/festa-de-loli-i-el-vi/
CATEGORIES:Agenda 21,Esdeveniments / Anuncis,Grup de Danses Beneixama
ATTACH;FMTTYPE=image/jpeg:https://www.beneixama.es/wp-content/uploads/2019/04/Cartell-Festa-de-loli.jpg
END:VEVENT
BEGIN:VEVENT
DTSTART;TZID=Europe/Madrid:20190407T100000
DTEND;TZID=Europe/Madrid:20190407T143000
DTSTAMP:20260426T024242
CREATED:20190402T064710Z
LAST-MODIFIED:20190402T064710Z
UID:34821-1554631200-1554647400@www.beneixama.es
SUMMARY:Lliga interna Judo Club Castalla. II Jornada a Beneixama.
DESCRIPTION:
URL:https://www.beneixama.es/ca/event/lliga-interna-judo-club-castalla-ii-jornada-a-beneixama/
CATEGORIES:Agenda 21,BeneiXarXa,Esdeveniments / Anuncis
ATTACH;FMTTYPE=image/jpeg:https://www.beneixama.es/wp-content/uploads/2019/04/II-jornada-liga-interna-club-2019.jpg
END:VEVENT
BEGIN:VEVENT
DTSTART;TZID=Europe/Madrid:20190413T063000
DTEND;TZID=Europe/Madrid:20190413T143000
DTSTAMP:20260426T024242
CREATED:20190403T095652Z
LAST-MODIFIED:20190403T095652Z
UID:34851-1555137000-1555165800@www.beneixama.es
SUMMARY:XVII Marxa al Montcabrer.
DESCRIPTION:
URL:https://www.beneixama.es/ca/event/xvii-marxa-al-montcabrer/
CATEGORIES:Agenda 21,BeneiXarXa,Esdeveniments / Anuncis
ATTACH;FMTTYPE=image/jpeg:https://www.beneixama.es/wp-content/uploads/2019/04/Cartell-marxa-Montcabrer.jpg
END:VEVENT
BEGIN:VEVENT
DTSTART;TZID=Europe/Madrid:20190414T180000
DTEND;TZID=Europe/Madrid:20190414T200000
DTSTAMP:20260426T024242
CREATED:20190403T070811Z
LAST-MODIFIED:20190403T083613Z
UID:34843-1555264800-1555272000@www.beneixama.es
SUMMARY:Concert preparació LXXII Certamen Nacional de Cullera.
DESCRIPTION:
URL:https://www.beneixama.es/ca/event/concert-preparacio-lxxii-certamen-nacional-de-cullera/
CATEGORIES:Agenda 21,Esdeveniments / Anuncis,Societat Musical La Pau
ATTACH;FMTTYPE=image/jpeg:https://www.beneixama.es/wp-content/uploads/2019/04/concert-de-música.jpg
END:VEVENT
END:VCALENDAR